BEGIN:VCALENDAR
VERSION:2.0
PRODID:-//jEvents 2.0 for Joomla//EN
CALSCALE:GREGORIAN
METHOD:PUBLISH
BEGIN:VTIMEZONE
TZID:Europe/Berlin
BEGIN:STANDARD
DTSTART:20240111T160000
RDATE:20240331T030000
TZOFFSETFROM:+0200
TZOFFSETTO:+0100
TZNAME:Europe/Berlin CET
END:STANDARD
BEGIN:STANDARD
DTSTART:20241027T020000
RDATE:20250330T030000
TZOFFSETFROM:+0200
TZOFFSETTO:+0100
TZNAME:Europe/Berlin CET
END:STANDARD
BEGIN:STANDARD
DTSTART:20251026T020000
RDATE:20260329T030000
TZOFFSETFROM:+0200
TZOFFSETTO:+0100
TZNAME:Europe/Berlin CET
END:STANDARD
BEGIN:STANDARD
DTSTART:20261025T020000
RDATE:20270328T030000
TZOFFSETFROM:+0200
TZOFFSETTO:+0100
TZNAME:Europe/Berlin CET
END:STANDARD
BEGIN:STANDARD
DTSTART:20271031T020000
RDATE:20280326T030000
TZOFFSETFROM:+0200
TZOFFSETTO:+0100
TZNAME:Europe/Berlin CET
END:STANDARD
BEGIN:STANDARD
DTSTART:20281029T020000
RDATE:20290325T030000
TZOFFSETFROM:+0200
TZOFFSETTO:+0100
TZNAME:Europe/Berlin CET
END:STANDARD
BEGIN:STANDARD
DTSTART:20291028T020000
RDATE:20300331T030000
TZOFFSETFROM:+0200
TZOFFSETTO:+0100
TZNAME:Europe/Berlin CET
END:STANDARD
BEGIN:STANDARD
DTSTART:20301027T020000
RDATE:20310330T030000
TZOFFSETFROM:+0200
TZOFFSETTO:+0100
TZNAME:Europe/Berlin CET
END:STANDARD
BEGIN:STANDARD
DTSTART:20311026T020000
RDATE:20320328T030000
TZOFFSETFROM:+0200
TZOFFSETTO:+0100
TZNAME:Europe/Berlin CET
END:STANDARD
BEGIN:DAYLIGHT
DTSTART:20240331T030000
RDATE:20241027T020000
TZOFFSETFROM:+0100
TZOFFSETTO:+0200
TZNAME:Europe/Berlin CEST
END:DAYLIGHT
BEGIN:DAYLIGHT
DTSTART:20250330T030000
RDATE:20251026T020000
TZOFFSETFROM:+0100
TZOFFSETTO:+0200
TZNAME:Europe/Berlin CEST
END:DAYLIGHT
BEGIN:DAYLIGHT
DTSTART:20260329T030000
RDATE:20261025T020000
TZOFFSETFROM:+0100
TZOFFSETTO:+0200
TZNAME:Europe/Berlin CEST
END:DAYLIGHT
BEGIN:DAYLIGHT
DTSTART:20270328T030000
RDATE:20271031T020000
TZOFFSETFROM:+0100
TZOFFSETTO:+0200
TZNAME:Europe/Berlin CEST
END:DAYLIGHT
BEGIN:DAYLIGHT
DTSTART:20280326T030000
RDATE:20281029T020000
TZOFFSETFROM:+0100
TZOFFSETTO:+0200
TZNAME:Europe/Berlin CEST
END:DAYLIGHT
BEGIN:DAYLIGHT
DTSTART:20290325T030000
RDATE:20291028T020000
TZOFFSETFROM:+0100
TZOFFSETTO:+0200
TZNAME:Europe/Berlin CEST
END:DAYLIGHT
BEGIN:DAYLIGHT
DTSTART:20300331T030000
RDATE:20301027T020000
TZOFFSETFROM:+0100
TZOFFSETTO:+0200
TZNAME:Europe/Berlin CEST
END:DAYLIGHT
BEGIN:DAYLIGHT
DTSTART:20310330T030000
RDATE:20311026T020000
TZOFFSETFROM:+0100
TZOFFSETTO:+0200
TZNAME:Europe/Berlin CEST
END:DAYLIGHT
END:VTIMEZONE
BEGIN:VEVENT
UID:e9a62cf5a61a03ec63bbf4ac8e89419d
CATEGORIES:KV „Zugabe“ Mörlheim
CREATED:20241227T192123
SUMMARY:Lichterwanderung
LOCATION:Ritter-Stephan-Platz
DESCRIPTION:Wir werden um 16 Uhr am „Ritter-Stephan-Platz“ starten und über Feldwege zu
  den Nussbäumen oberhalb der „Lehmenhohl“ wandern. Dort werden wir euch geg
 en Spende mit Glühwein / Kinderpunsch sowie Laugengebäck versorgen. Für die
  Kinder gibt es eine besondere Überraschung, die noch nicht verraten wird. 
 Ab ca. 18 Uhr werden wir den Rückweg antreten, sodass wir spätestens gegen 
 19 Uhr zurück am „Ritter-Stephan-Platz“ sein werden.\nBitte beachtet noch f
 olgende Sicherheitshinweise: Ihr benötigt festes Schuhwerk und eine Lichtqu
 elle, da es während der Wanderung dunkel wird. Als Lichtquelle könntet Ihr 
 z.B. Stirnlampen, Taschenlampen, geschlossene Laternen, Handylicht etc. nut
 zen. Zu eurer Sicherheit und Vermeidung von Unfällen sind keine Lichtquelle
 n mit offenem Feuer (z.B. Fackeln) erlaubt. Wir bitten hierfür um Verständn
 is.\nWir, der Kulturverein „Zugabe“ Mörlheim e.V., freuen uns auf diesen ge
 meinsamen Nachmittag/Abend mit Euch!\n
X-ALT-DESC;FMTTYPE=text/html:<p><span style="font-size: 12pt;">Wir werden um 16 Uhr am „Ritter-Stephan-P
 latz“ starten und über Feldwege zu den Nussbäumen oberhalb der „Lehmenhohl“
  wandern. Dort werden wir euch gegen Spende mit Glühwein / Kinderpunsch sow
 ie Laugengebäck versorgen. Für die Kinder gibt es eine besondere Überraschu
 ng, die noch nicht verraten wird. Ab ca. 18 Uhr werden wir den Rückweg antr
 eten, sodass wir spätestens gegen 19 Uhr zurück am „Ritter-Stephan-Platz“ s
 ein werden.</span><br /><span style="font-size: 12pt;">Bitte beachtet noch 
 folgende Sicherheitshinweise: Ihr benötigt festes Schuhwerk und eine Lichtq
 uelle, da es während der Wanderung dunkel wird. Als Lichtquelle könntet Ihr
  z.B. Stirnlampen, Taschenlampen, geschlossene Laternen, Handylicht etc. nu
 tzen. Zu eurer Sicherheit und Vermeidung von Unfällen sind keine Lichtquell
 en mit offenem Feuer (z.B. Fackeln) erlaubt. Wir bitten hierfür um Verständ
 nis.</span><br /><span style="font-size: 12pt;">Wir, der Kulturverein „Zuga
 be“ Mörlheim e.V., freuen uns auf diesen gemeinsamen Nachmittag/Abend mit E
 uch!</span></p>
DTSTAMP:20260424T124242Z
DTSTART;TZID=Europe/Berlin:20250111T160000
SEQUENCE:0
TRANSP:OPAQUE
END:VEVENT
END:VCALENDAR