BEGIN:VCALENDAR
VERSION:2.0
PRODID:-//jEvents 2.0 for Joomla//EN
CALSCALE:GREGORIAN
METHOD:PUBLISH
BEGIN:VTIMEZONE
TZID:Europe/Berlin
BEGIN:STANDARD
DTSTART:20241027T020000
RDATE:20250330T030000
TZOFFSETFROM:+0200
TZOFFSETTO:+0100
TZNAME:Europe/Berlin CET
END:STANDARD
BEGIN:STANDARD
DTSTART:20251026T020000
RDATE:20260329T030000
TZOFFSETFROM:+0200
TZOFFSETTO:+0100
TZNAME:Europe/Berlin CET
END:STANDARD
BEGIN:STANDARD
DTSTART:20261025T020000
RDATE:20270328T030000
TZOFFSETFROM:+0200
TZOFFSETTO:+0100
TZNAME:Europe/Berlin CET
END:STANDARD
BEGIN:STANDARD
DTSTART:20271031T020000
RDATE:20280326T030000
TZOFFSETFROM:+0200
TZOFFSETTO:+0100
TZNAME:Europe/Berlin CET
END:STANDARD
BEGIN:STANDARD
DTSTART:20281029T020000
RDATE:20290325T030000
TZOFFSETFROM:+0200
TZOFFSETTO:+0100
TZNAME:Europe/Berlin CET
END:STANDARD
BEGIN:STANDARD
DTSTART:20291028T020000
RDATE:20300331T030000
TZOFFSETFROM:+0200
TZOFFSETTO:+0100
TZNAME:Europe/Berlin CET
END:STANDARD
BEGIN:STANDARD
DTSTART:20301027T020000
RDATE:20310330T030000
TZOFFSETFROM:+0200
TZOFFSETTO:+0100
TZNAME:Europe/Berlin CET
END:STANDARD
BEGIN:STANDARD
DTSTART:20311026T020000
RDATE:20320328T030000
TZOFFSETFROM:+0200
TZOFFSETTO:+0100
TZNAME:Europe/Berlin CET
END:STANDARD
BEGIN:DAYLIGHT
DTSTART:20240904T193000
RDATE:20241027T020000
TZOFFSETFROM:+0100
TZOFFSETTO:+0200
TZNAME:Europe/Berlin CEST
END:DAYLIGHT
BEGIN:DAYLIGHT
DTSTART:20250330T030000
RDATE:20251026T020000
TZOFFSETFROM:+0100
TZOFFSETTO:+0200
TZNAME:Europe/Berlin CEST
END:DAYLIGHT
BEGIN:DAYLIGHT
DTSTART:20260329T030000
RDATE:20261025T020000
TZOFFSETFROM:+0100
TZOFFSETTO:+0200
TZNAME:Europe/Berlin CEST
END:DAYLIGHT
BEGIN:DAYLIGHT
DTSTART:20270328T030000
RDATE:20271031T020000
TZOFFSETFROM:+0100
TZOFFSETTO:+0200
TZNAME:Europe/Berlin CEST
END:DAYLIGHT
BEGIN:DAYLIGHT
DTSTART:20280326T030000
RDATE:20281029T020000
TZOFFSETFROM:+0100
TZOFFSETTO:+0200
TZNAME:Europe/Berlin CEST
END:DAYLIGHT
BEGIN:DAYLIGHT
DTSTART:20290325T030000
RDATE:20291028T020000
TZOFFSETFROM:+0100
TZOFFSETTO:+0200
TZNAME:Europe/Berlin CEST
END:DAYLIGHT
BEGIN:DAYLIGHT
DTSTART:20300331T030000
RDATE:20301027T020000
TZOFFSETFROM:+0100
TZOFFSETTO:+0200
TZNAME:Europe/Berlin CEST
END:DAYLIGHT
BEGIN:DAYLIGHT
DTSTART:20310330T030000
RDATE:20311026T020000
TZOFFSETFROM:+0100
TZOFFSETTO:+0200
TZNAME:Europe/Berlin CEST
END:DAYLIGHT
END:VTIMEZONE
BEGIN:VEVENT
UID:04c3fdac9659e6549df4d80e5b9a3142
CATEGORIES:KV „Zugabe“ Mörlheim, Kath. Kultuskapelle Mörlheim
CREATED:20250308T195510
SUMMARY:Mörlheim feiert 1225 Jahre – Festabend mit Musik, Theaterfilm und Live-Szenen  
LOCATION:Großes DGH Mörlheim
DESCRIPTION:Mörlheim feiert 1225 Jahre – Festabend mit Musik, Theaterfilm und Live-Szen
 en\nLandau-Mörlheim, Juli 2025 – 1225 Jahre Mörlheim – ein stolzes Jubiläum
 , das mit einem besonderen Festabend gefeiert wird! Die Katholische Kultusk
 apelle Mörlheim und der Kulturverein „Zugabe“ Mörlheim e. V. laden herzlich
  ein zum Jubiläumsevent am Freitag, den 5. September 2025, im großen Dorfge
 meinschaftshaus.\nBeginn ist um 19:30 Uhr (Einlass ab 18:30 Uhr). Der Eintr
 itt ist frei.\nDas Programm verspricht einen unterhaltsamen Abend:\n Neben 
 stimmungsvoller Live-Musik der Kultuskapelle wird die eigens vom Kulturvere
 in für dieses Jubiläumsevent geschriebene und inszenierte Filmreihe „Mörlhe
 im im Wandel der Zeit“ gezeigt. Weiter zeigen junge Schauspielerinnen und S
 chauspieler live auf der Bühne was sie mit Hilfe des Chawwerusch-Theaters e
 rarbeitet haben.\nFür das leibliche Wohl ist bestens gesorgt.\n Lassen Sie 
 sich überraschen – und feiern Sie mit uns 1225 Jahre gelebte Ortsgeschichte
 !\nVeranstalter:\n Katholische Kultuskapelle Mörlheim &amp; Kulturverein „Z
 ugabe“ Mörlheim e. V.\n
X-ALT-DESC;FMTTYPE=text/html:<p><span style="font-size: 12pt;"><strong>Mörlheim feiert 1225 Jahre – Fest
 abend mit Musik, Theaterfilm und Live-Szenen</strong></span></p><p><span st
 yle="font-size: 12pt;"><strong>Landau-Mörlheim, Juli 2025</strong> – 1225 J
 ahre Mörlheim – ein stolzes Jubiläum, das mit einem besonderen Festabend ge
 feiert wird! Die Katholische Kultuskapelle Mörlheim und der Kulturverein „Z
 ugabe“ Mörlheim e. V. laden herzlich ein zum Jubiläumsevent am <strong>Frei
 tag, den 5. September 2025</strong>, im großen Dorfgemeinschaftshaus.</span
 ></p><p><span style="font-size: 12pt;"><strong>Beginn ist um 19:30 Uhr (Ein
 lass ab 18:30 Uhr)</strong>. Der Eintritt ist frei.</span></p><p><span styl
 e="font-size: 12pt;">Das Programm verspricht einen unterhaltsamen Abend:</s
 pan><br /><span style="font-size: 12pt;"> Neben stimmungsvoller Live-Musik 
 der Kultuskapelle wird die eigens vom Kulturverein für dieses Jubiläumseven
 t geschriebene und inszenierte <strong>Filmreihe „Mörlheim im Wandel der Ze
 it“ </strong>gezeigt. Weiter zeigen junge Schauspielerinnen und Schauspiele
 r <strong>live auf der Bühne </strong>was sie mit Hilfe des Chawwerusch-The
 aters erarbeitet haben.</span></p><p><span style="font-size: 12pt;">Für das
  leibliche Wohl ist bestens gesorgt.</span><br /><span style="font-size: 12
 pt;"> Lassen Sie sich überraschen – und feiern Sie mit uns 1225 Jahre geleb
 te Ortsgeschichte!</span></p><p><span style="font-size: 12pt;"><strong>Vera
 nstalter:</strong></span><br /><span style="font-size: 12pt;"> Katholische 
 Kultuskapelle Mörlheim &amp; Kulturverein „Zugabe“ Mörlheim e. V.</span></p
 >
DTSTAMP:20260424T114237Z
DTSTART;TZID=Europe/Berlin:20250905T193000
SEQUENCE:0
TRANSP:OPAQUE
END:VEVENT
END:VCALENDAR